BEGIN:VCALENDAR
VERSION:2.0
PRODID:-//Plone.org//NONSGML plone.app.event//EN
X-WR-TIMEZONE:Europe/Madrid
BEGIN:VEVENT
SUMMARY:3rd AVFA International Workshop
DTSTART;TZID=Europe/Madrid;VALUE=DATE-TIME:20090518T090000
DTEND;TZID=Europe/Madrid;VALUE=DATE-TIME:20090520T200000
DTSTAMP;VALUE=DATE-TIME:20260423T180258Z
UID:875e60b7b04344ef9b539e775ed6b7ae@www.byo.upm.es
RRULE:FREQ=DAILY;COUNT=7
EXDATE;TZID=Europe/Madrid:20090519T000000,20090520T000000,20090521T000000,
 20090522T000000,20090523T000000,20090524T000000
CONTACT:Juan I. Godino Llorente\, http://www.byo.upm.es/AVFA
CREATED;VALUE=DATE-TIME:20210730T114747Z
DESCRIPTION:3rd Advanced Voice Function Assessment International Workshop
LAST-MODIFIED;VALUE=DATE-TIME:20220328T230741Z
LOCATION:Paraninfo Universidad Politécnica de Madrid
URL:http://www.byo.upm.es/BYO/events/workshop
END:VEVENT
BEGIN:VTIMEZONE
TZID:Europe/Madrid
X-LIC-LOCATION:Europe/Madrid
BEGIN:DAYLIGHT
DTSTART;VALUE=DATE-TIME:20090329T030000
TZNAME:CEST
TZOFFSETFROM:+0100
TZOFFSETTO:+0200
END:DAYLIGHT
END:VTIMEZONE
END:VCALENDAR
