BEGIN:VCALENDAR
VERSION:2.0
PRODID:-//Plone.org//NONSGML plone.app.event//EN
X-WR-TIMEZONE:Europe/Madrid
BEGIN:VEVENT
SUMMARY:2nd Automatic Assessment of Parkinsonian Speech Workshop
DTSTART;TZID=Europe/Madrid;VALUE=DATE-TIME:20241121T083000
DTEND;TZID=Europe/Madrid;VALUE=DATE-TIME:20241122T153000
DTSTAMP;VALUE=DATE-TIME:20260425T182203Z
UID:1da2510fb0604b909a7a5ddd9e87820e@www.byo.upm.es
CONTACT:gi.byo@upm.es\, https://www.byo.upm.es/AAPS24
CREATED;VALUE=DATE-TIME:20240315T114525Z
LAST-MODIFIED;VALUE=DATE-TIME:20240708T231643Z
LOCATION:Cambridge\, MA\, USA
URL:http://www.byo.upm.es/BYO/events/2nd-automatic-assessment-of-parkinson
 ian-speech-workshop
END:VEVENT
BEGIN:VEVENT
SUMMARY:1st AAPS Workshop
DTSTART;TZID=Europe/Madrid;VALUE=DATE-TIME:20190920T083000
DTEND;TZID=Europe/Madrid;VALUE=DATE-TIME:20190921T093000
DTSTAMP;VALUE=DATE-TIME:20260425T182203Z
UID:19ace0d293c54a3a9dbe36b44a324482@www.byo.upm.es
CONTACT:Juan Ignacio Godino Llorente\, http://www.byo.upm.es/AAPS/
CREATED;VALUE=DATE-TIME:20210730T121558Z
DESCRIPTION:1st Automatic Assessment of Parkinsonian Speech Workshop
LAST-MODIFIED;VALUE=DATE-TIME:20220328T230840Z
LOCATION:Massachussets Insitute of Technology
URL:http://www.byo.upm.es/BYO/events/1st-automatic-assessment-of-parkinson
 ian-speech-workshop
END:VEVENT
BEGIN:VEVENT
SUMMARY:3rd AVFA International Workshop
DTSTART;TZID=Europe/Madrid;VALUE=DATE-TIME:20090518T090000
DTEND;TZID=Europe/Madrid;VALUE=DATE-TIME:20090520T200000
DTSTAMP;VALUE=DATE-TIME:20260425T182203Z
UID:875e60b7b04344ef9b539e775ed6b7ae@www.byo.upm.es
RRULE:FREQ=DAILY;COUNT=7
EXDATE;TZID=Europe/Madrid:20090519T000000,20090520T000000,20090521T000000,
 20090522T000000,20090523T000000,20090524T000000
CONTACT:Juan I. Godino Llorente\, http://www.byo.upm.es/AVFA
CREATED;VALUE=DATE-TIME:20210730T114747Z
DESCRIPTION:3rd Advanced Voice Function Assessment International Workshop
LAST-MODIFIED;VALUE=DATE-TIME:20220328T230741Z
LOCATION:Paraninfo Universidad Politécnica de Madrid
URL:http://www.byo.upm.es/BYO/events/workshop
END:VEVENT
BEGIN:VTIMEZONE
TZID:Europe/Madrid
X-LIC-LOCATION:Europe/Madrid
BEGIN:STANDARD
DTSTART;VALUE=DATE-TIME:20241027T020000
TZNAME:CET
TZOFFSETFROM:+0200
TZOFFSETTO:+0100
END:STANDARD
BEGIN:DAYLIGHT
DTSTART;VALUE=DATE-TIME:20090329T030000
TZNAME:CEST
TZOFFSETFROM:+0100
TZOFFSETTO:+0200
END:DAYLIGHT
BEGIN:DAYLIGHT
DTSTART;VALUE=DATE-TIME:20190331T030000
TZNAME:CEST
TZOFFSETFROM:+0100
TZOFFSETTO:+0200
END:DAYLIGHT
END:VTIMEZONE
END:VCALENDAR
